BEGIN:VCALENDAR
VERSION:2.0
PRODID:-//http://tanzlehrerschule.at///NONSGML kigkonsult.se iCalcreator 2.10.15//
METHOD:PUBLISH
BEGIN:VEVENT
UID:20260419T225545UTC-3152O4EfGZ@http://tanzlehrerschule.at/
DTSTAMP:20260419T225545Z
DESCRIPTION:	 http://tanzlehrerschule.at/index.php/events/termine/event/84-
 rhetorik
DTSTART:20221002T090000Z
DTEND:20221002T160000Z
LOCATION:Tanzschule Danek (Tanzschule Danek\, Wr. Str. 20\, 2100 Korneuburg
 \, Österreich)
SUMMARY:Rhetorik
URL:http://tanzlehrerschule.at/index.php/events/termine/event/84-rhetorik
END:VEVENT
END:VCALENDAR
