BEGIN:VCALENDAR
VERSION:2.0
PRODID:-//http://tanzlehrerschule.at///NONSGML kigkonsult.se iCalcreator 2.10.15//
METHOD:PUBLISH
BEGIN:VEVENT
UID:20260424T004456UTC-8323lRe2g2@http://tanzlehrerschule.at/
DTSTAMP:20260424T004456Z
DESCRIPTION: http://tanzlehrerschule.at/index.php/events/termine/event/172-
 cha-cha-cha
DTSTART:20260607T090000Z
DTEND:20260607T160000Z
LOCATION:Tanzschule Danek (Tanzschule Danek\, Wr. Str. 20\, 2100 Korneuburg
 \, Österreich)
SUMMARY:Cha Cha Cha
URL:http://tanzlehrerschule.at/index.php/events/termine/event/172-cha-cha-c
 ha
END:VEVENT
END:VCALENDAR
