BEGIN:VCALENDAR
VERSION:2.0
PRODID:-//http://tanzlehrerschule.at///NONSGML kigkonsult.se iCalcreator 2.10.15//
METHOD:PUBLISH
BEGIN:VEVENT
UID:20260422T092040UTC-1040vEPgId@http://tanzlehrerschule.at/
DTSTAMP:20260422T092040Z
DESCRIPTION: http://tanzlehrerschule.at/index.php/events/termine/event/112-
 moderne-bewegungsformen-modetaenze
DTSTART:20260516T090000Z
DTEND:20260516T160000Z
LOCATION: ()
SUMMARY:Moderne Bewegungsformen/Modetänze
URL:http://tanzlehrerschule.at/index.php/events/termine/event/112-moderne-b
 ewegungsformen-modetaenze
END:VEVENT
END:VCALENDAR
