BEGIN:VCALENDAR
VERSION:2.0
PRODID:-//http://tanzlehrerschule.at///NONSGML kigkonsult.se iCalcreator 2.10.15//
METHOD:PUBLISH
BEGIN:VEVENT
UID:20260421T195332UTC-9460LJWGEr@http://tanzlehrerschule.at/
DTSTAMP:20260421T195332Z
DESCRIPTION: http://tanzlehrerschule.at/index.php/events/event/56-paedagogi
 k
DTSTART:20211121T090000Z
DTEND:20211121T160000Z
LOCATION:Tanzschule Danek (Tanzschule Danek\, Wr. Str. 20\, 2100 Korneuburg
 \, Österreich)
SUMMARY:Pädagogik
URL:http://tanzlehrerschule.at/index.php/events/event/56-paedagogik
END:VEVENT
END:VCALENDAR
