BEGIN:VCALENDAR
VERSION:2.0
PRODID:-//http://tanzlehrerschule.at///NONSGML kigkonsult.se iCalcreator 2.10.15//
METHOD:PUBLISH
BEGIN:VEVENT
UID:20260420T064836UTC-4926C2Z3tU@http://tanzlehrerschule.at/
DTSTAMP:20260420T064836Z
DESCRIPTION: http://tanzlehrerschule.at/index.php/events/event/37-slow-fox
DTSTART:20210513T090000Z
DTEND:20210513T160000Z
LOCATION: ()
SUMMARY:Slow Fox
URL:http://tanzlehrerschule.at/index.php/events/event/37-slow-fox
END:VEVENT
END:VCALENDAR
