BEGIN:VCALENDAR
VERSION:2.0
PRODID:-//http://tanzlehrerschule.at///NONSGML kigkonsult.se iCalcreator 2.10.15//
METHOD:PUBLISH
BEGIN:VEVENT
UID:20260422T015600UTC-1383wPS2I2@http://tanzlehrerschule.at/
DTSTAMP:20260422T015600Z
DESCRIPTION: http://tanzlehrerschule.at/index.php/events/event/106-cha-cha-
 cha
DTSTART:20231203T090000Z
DTEND:20231203T160000Z
LOCATION:Tanzschule Danek (Tanzschule Danek\, Wr. Str. 20\, 2100 Korneuburg
 \, Österreich)
SUMMARY:Cha Cha Cha
URL:http://tanzlehrerschule.at/index.php/events/event/106-cha-cha-cha
END:VEVENT
END:VCALENDAR
